BEGIN:VCALENDAR
VERSION:2.0
PRODID:-//The Pulse Performing Arts Center - ECPv6.15.20//NONSGML v1.0//EN
CALSCALE:GREGORIAN
METHOD:PUBLISH
X-ORIGINAL-URL:https://thepulsepac.com
X-WR-CALDESC:Events for The Pulse Performing Arts Center
REFRESH-INTERVAL;VALUE=DURATION:PT1H
X-Robots-Tag:noindex
X-PUBLISHED-TTL:PT1H
BEGIN:VTIMEZONE
TZID:UTC
BEGIN:STANDARD
TZOFFSETFROM:+0000
TZOFFSETTO:+0000
TZNAME:UTC
DTSTART:20200101T000000
END:STANDARD
END:VTIMEZONE
BEGIN:VEVENT
DTSTART;VALUE=DATE:20210315
DTEND;VALUE=DATE:20210322
DTSTAMP:20260424T203919
CREATED:20200821T022323Z
LAST-MODIFIED:20200821T022323Z
UID:49648-1615766400-1616371199@thepulsepac.com
SUMMARY:Studio closed for Spring Break
DESCRIPTION:
URL:https://thepulsepac.com/calendar/studio-closed-for-spring-break-2/
END:VEVENT
END:VCALENDAR