BEGIN:VCALENDAR
VERSION:2.0
PRODID:-//The Pulse Performing Arts Center - ECPv6.15.20//NONSGML v1.0//EN
CALSCALE:GREGORIAN
METHOD:PUBLISH
X-WR-CALNAME:The Pulse Performing Arts Center
X-ORIGINAL-URL:https://thepulsepac.com
X-WR-CALDESC:Events for The Pulse Performing Arts Center
REFRESH-INTERVAL;VALUE=DURATION:PT1H
X-Robots-Tag:noindex
X-PUBLISHED-TTL:PT1H
BEGIN:VTIMEZONE
TZID:UTC
BEGIN:STANDARD
TZOFFSETFROM:+0000
TZOFFSETTO:+0000
TZNAME:UTC
DTSTART:20200101T000000
END:STANDARD
END:VTIMEZONE
BEGIN:VEVENT
DTSTART;VALUE=DATE:20210503
DTEND;VALUE=DATE:20210507
DTSTAMP:20260424T180534
CREATED:20200821T022700Z
LAST-MODIFIED:20200821T022700Z
UID:49654-1620000000-1620345599@thepulsepac.com
SUMMARY:Recital Costumes sent home
DESCRIPTION:
URL:https://thepulsepac.com/calendar/recital-costumes-sent-home-4/
END:VEVENT
BEGIN:VEVENT
DTSTART;VALUE=DATE:20210524
DTEND;VALUE=DATE:20210528
DTSTAMP:20260424T180534
CREATED:20200821T022826Z
LAST-MODIFIED:20200821T022826Z
UID:49656-1621814400-1622159999@thepulsepac.com
SUMMARY:Recital Spirit Week!
DESCRIPTION:
URL:https://thepulsepac.com/calendar/recital-spirit-week-4/
END:VEVENT
BEGIN:VEVENT
DTSTART;VALUE=DATE:20210527
DTEND;VALUE=DATE:20210528
DTSTAMP:20260424T180534
CREATED:20200821T022926Z
LAST-MODIFIED:20200821T022926Z
UID:49658-1622073600-1622159999@thepulsepac.com
SUMMARY:Last day of classes!
DESCRIPTION:
URL:https://thepulsepac.com/calendar/last-day-of-classes-2/
END:VEVENT
BEGIN:VEVENT
DTSTART;VALUE=DATE:20210529
DTEND;VALUE=DATE:20210601
DTSTAMP:20260424T180534
CREATED:20200821T023101Z
LAST-MODIFIED:20200821T023101Z
UID:49660-1622246400-1622505599@thepulsepac.com
SUMMARY:Studio Closed for Memorial Day
DESCRIPTION:
URL:https://thepulsepac.com/calendar/studio-closed-for-memorial-day-2/
END:VEVENT
END:VCALENDAR